BEGIN:VCALENDAR
VERSION:2.0
PRODID:-//wp-events-plugin.com//7.2.3.1//EN
TZID:Europe/Berlin
X-WR-TIMEZONE:Europe/Berlin
BEGIN:VEVENT
UID:21@katharinapfaender.de
DTSTART;TZID=Europe/Berlin:20260215T160000
DTEND;TZID=Europe/Berlin:20260215T160000
DTSTAMP:20260209T133800Z
URL:https://katharinapfaender.de/events/faux-pas-una-poesia-del-tango-5/
SUMMARY:faux pas – Una poesía del tango
DESCRIPTION:
LOCATION:BücherBiene\, Poppenbütteler Str. 172\, Norderstedt (Hamburg)\, 
 22851\, Deutschland
X-APPLE-STRUCTURED-LOCATION;VALUE=URI;X-ADDRESS=Poppenbütteler Str. 172\, 
 Norderstedt (Hamburg)\, 22851\, Deutschland;X-APPLE-RADIUS=100;X-TITLE=Bü
 cherBiene:geo:0,0
END:VEVENT
BEGIN:VTIMEZONE
TZID:Europe/Berlin
X-LIC-LOCATION:Europe/Berlin
BEGIN:STANDARD
DTSTART:20251026T020000
TZOFFSETFROM:+0200
TZOFFSETTO:+0100
TZNAME:CET
END:STANDARD
END:VTIMEZONE
END:VCALENDAR